BEGIN:VCALENDAR
VERSION:2.0
PRODID:-//PILGRIM COMMUNITY CHURCH - ECPv6.15.20//NONSGML v1.0//EN
CALSCALE:GREGORIAN
METHOD:PUBLISH
X-ORIGINAL-URL:https://pilgrimcommunity.church
X-WR-CALDESC:Events for PILGRIM COMMUNITY CHURCH
REFRESH-INTERVAL;VALUE=DURATION:PT1H
X-Robots-Tag:noindex
X-PUBLISHED-TTL:PT1H
BEGIN:VTIMEZONE
TZID:UTC
BEGIN:STANDARD
TZOFFSETFROM:+0000
TZOFFSETTO:+0000
TZNAME:UTC
DTSTART:20230101T000000
END:STANDARD
END:VTIMEZONE
BEGIN:VEVENT
DTSTART;TZID=UTC:20240525T140000
DTEND;TZID=UTC:20240525T160000
DTSTAMP:20260424T004308
CREATED:20240508T120403Z
LAST-MODIFIED:20240508T120405Z
UID:244-1716645600-1716652800@pilgrimcommunity.church
SUMMARY:Pilgrim Journey Group for Teens
DESCRIPTION:Our church Session has resolved to start a monthly Pilgrim Journey Group for our teenaged brothers and sisters. \n\n\n\nThis is open for everyone between the ages of 13 to 20 and our elders and elders-in-training will be taking turns to facilitate this. For now\, the plan is to lead discussions through Dr Rebecca McLaughlin’s book Confronting Christianity: 12 Hard Questions for the World’s Largest Religion. \n\n\n\nWe will be meeting in person at our ministry center every last Saturday of the month at 2PM. Please come join us as we think through various issues relating to faith\, life\, and everything in between! Feel free to invite your friends\, too!
URL:https://pilgrimcommunity.church/event/pilgrim-journey-group-for-teens/
LOCATION:Pilgrim Community Church\, 34 Detroit Street\, Brgy Pinagkaisahan\, Quezon City
END:VEVENT
END:VCALENDAR